BEGIN:VCALENDAR
VERSION:2.0
PRODID:-//Rhein-Rock e.V. - ECPv6.15.19//NONSGML v1.0//EN
CALSCALE:GREGORIAN
METHOD:PUBLISH
X-ORIGINAL-URL:https://rhein-rock.de
X-WR-CALDESC:Veranstaltungen für Rhein-Rock e.V.
REFRESH-INTERVAL;VALUE=DURATION:PT1H
X-Robots-Tag:noindex
X-PUBLISHED-TTL:PT1H
BEGIN:VTIMEZONE
TZID:Europe/Paris
BEGIN:DAYLIGHT
TZOFFSETFROM:+0100
TZOFFSETTO:+0200
TZNAME:CEST
DTSTART:20240331T010000
END:DAYLIGHT
BEGIN:STANDARD
TZOFFSETFROM:+0200
TZOFFSETTO:+0100
TZNAME:CET
DTSTART:20241027T010000
END:STANDARD
BEGIN:DAYLIGHT
TZOFFSETFROM:+0100
TZOFFSETTO:+0200
TZNAME:CEST
DTSTART:20250330T010000
END:DAYLIGHT
BEGIN:STANDARD
TZOFFSETFROM:+0200
TZOFFSETTO:+0100
TZNAME:CET
DTSTART:20251026T010000
END:STANDARD
BEGIN:DAYLIGHT
TZOFFSETFROM:+0100
TZOFFSETTO:+0200
TZNAME:CEST
DTSTART:20260329T010000
END:DAYLIGHT
BEGIN:STANDARD
TZOFFSETFROM:+0200
TZOFFSETTO:+0100
TZNAME:CET
DTSTART:20261025T010000
END:STANDARD
END:VTIMEZONE
BEGIN:VEVENT
DTSTART;VALUE=DATE:20251114
DTEND;VALUE=DATE:20251116
DTSTAMP:20260426T040259
CREATED:20230208T114959Z
LAST-MODIFIED:20251113T182426Z
UID:6963-1763078400-1763251199@rhein-rock.de
SUMMARY:Rhein-Rock NOpenAir 2025
DESCRIPTION:Wir präsentieren die zweite Auflage unserer Reihe NOpenAir. Zwei Tage voller Musik\, leckeren Pommes und natürlich euch\, unseren Gästen.\n– End Of Green\n– Flick Knives(- Yeti Girls mussten leider absagen)– Clean Slate– Normacho– Backseat Alley– Eight Feet Fine– QuickAndDörty– Ice Cream At The Alligator Park\nFreitag – Einlass 19:00Samstag – Einlass 16:00\nDies ist eine Indoor Veranstaltung!\nKinder unter 6 Jahren bezahlen keine Eintritt\, müssen aber unbedingt bei uns per Mail an info@rhein-rock.de angemeldet werden.\nWichtig ist auch bitte einen gültigen Lichtbildausweis mit zu bringen!
URL:https://rhein-rock.de/events/rhein-rock-open-air-2023/
LOCATION:Sojus 7\, Kapellenstraße 38\, Monheim am Rhein\, 40789
END:VEVENT
END:VCALENDAR