BEGIN:VCALENDAR
VERSION:2.0
PRODID:-//Rhein-Rock e.V. - ECPv6.15.19//NONSGML v1.0//EN
CALSCALE:GREGORIAN
METHOD:PUBLISH
X-WR-CALNAME:Rhein-Rock e.V.
X-ORIGINAL-URL:https://rhein-rock.de
X-WR-CALDESC:Veranstaltungen für Rhein-Rock e.V.
REFRESH-INTERVAL;VALUE=DURATION:PT1H
X-Robots-Tag:noindex
X-PUBLISHED-TTL:PT1H
BEGIN:VTIMEZONE
TZID:Europe/Paris
BEGIN:DAYLIGHT
TZOFFSETFROM:+0100
TZOFFSETTO:+0200
TZNAME:CEST
DTSTART:20240331T010000
END:DAYLIGHT
BEGIN:STANDARD
TZOFFSETFROM:+0200
TZOFFSETTO:+0100
TZNAME:CET
DTSTART:20241027T010000
END:STANDARD
BEGIN:DAYLIGHT
TZOFFSETFROM:+0100
TZOFFSETTO:+0200
TZNAME:CEST
DTSTART:20250330T010000
END:DAYLIGHT
BEGIN:STANDARD
TZOFFSETFROM:+0200
TZOFFSETTO:+0100
TZNAME:CET
DTSTART:20251026T010000
END:STANDARD
BEGIN:DAYLIGHT
TZOFFSETFROM:+0100
TZOFFSETTO:+0200
TZNAME:CEST
DTSTART:20260329T010000
END:DAYLIGHT
BEGIN:STANDARD
TZOFFSETFROM:+0200
TZOFFSETTO:+0100
TZNAME:CET
DTSTART:20261025T010000
END:STANDARD
END:VTIMEZONE
BEGIN:VEVENT
DTSTART;TZID=Europe/Paris:20250906T210000
DTEND;TZID=Europe/Paris:20250907T030000
DTSTAMP:20260426T052600
CREATED:20250712T130436Z
LAST-MODIFIED:20250712T130544Z
UID:7762-1757192400-1757214000@rhein-rock.de
SUMMARY:Rhein-Rock e.V. und 4019 Braumanufaktur präsentieren - Monheim House Dance (MHD)
DESCRIPTION:In Kooperation mit der 4019 Braumanufaktur werden wir House Musik ins Sojus 7 bringen. DJ Franky ist mit am Start und bringt jahrelange Erfahrung aus der Düsseldorfer Club Scene mit.\nEinlass ab 21:00Zutritt ab 18+Eintritt 10 €
URL:https://rhein-rock.de/events/rhein-rock-e-v-und-4019-braumanufaktur-praesentieren-monheim-house-dance-mhd/
LOCATION:Sojus 7\, Kapellenstraße 38\, Monheim am Rhein\, 40789
END:VEVENT
END:VCALENDAR